BEGIN:VCALENDAR
VERSION:2.0
PRODID:-//InvisionCommunity Events 4.7.24//EN
METHOD:PUBLISH
CALSCALE:GREGORIAN
REFRESH-INTERVAL:PT15M
X-PUBLISHED-TTL:PT15M
X-WR-CALNAME:Veranstaltungen
NAME:Veranstaltungen
BEGIN:VTIMEZONE
TZID:Europe/London
TZURL:http://tzurl.org/zoneinfo/Europe/London
X-LIC-LOCATION:Europe/London
BEGIN:DAYLIGHT
TZOFFSETFROM:+0000
TZOFFSETTO:+0100
TZNAME:BST
DTSTART:20260329T020000Z
RRULE:FREQ=YEARLY;BYMONTH=3;BYDAY=-1SU
END:DAYLIGHT
BEGIN:STANDARD
TZOFFSETFROM:+0100
TZOFFSETTO:+0000
TZNAME:GMT
DTSTART:20261025T020000Z
RRULE:FREQ=YEARLY;BYMONTH=10;BYDAY=-1SU
END:STANDARD
END:VTIMEZONE
BEGIN:VEVENT
SUMMARY:Tolkien Tag in der Stadtbibliothek Solingen
DTSTAMP:20260112T133000Z
SEQUENCE:0
UID:209-1-6be785b218d5d392c715c83b05ff37e8@www.tolkienforum.de
ORGANIZER;CN="Albenkind":admin@tolkienforum.ch
DESCRIPTION:\n	Aktuelles Programm der Stadtbibliothek SolingenEinladung 
	zum Tolkien-Tag in der Stadtbibliothek Solingen am 28.02.2026\, mit folgen
	dem Programm:\n\n\n\n	\n		Einsteiger-Quiz um 15:00 Uhr\n	\n	\n		Quiz für 
	Profis um 16:00 Uhr\n	\n	\n		Tollkühn-Podcast um 18:00 Uhr\n	\n\n\n\n	Im 
	Februar feiert die Stadtbibliothek die 50er Jahre des letzten Jahrhunderts
	 mit einem der populärsten\n\n	Autoren der Welt\, J.R.R. Tolkien mit sein
	er „Herr der Ringe-Trilogie“.\n\n\n\n	Eingeleitet wird das Ganze mit e
	inem Quiz in zwei Schwierigkeitsgraden.\n\n\n\n	Im Anschluss nehmen die be
	kannten Podcaster von\n\n	„Tollkühn“ eine neue Podcastfolge live vor 
	Publikum in der Stadtbibliothek auf.\n\n\n\n	Zwischen den Programmpunkten 
	lädt das Veranstaltungsteam euch ein\, unsere Fotowand zu nutzen\, um eue
	r eigenes Mittelerde-Erinnerungsfoto zu schießen.\n\n\n\n	Außerdem gibt 
	es eine Neuseeland-Fotoausstellung unter dem Motto \"Auf den Spuren Tolkie
	ns\".\n\n\n\n	\n\n	Eine Anmeldung für das Quiz ist erforderlich unter Fon
	: 0212 290 - 3210 oder E-Mail: stadtbibliothek@solingen.de\n\n	Ort: Stadtb
	ibliothek Solingen\, Mummstraße 10\, 42651 Solingen\n\n\n\n	Der Eintritt 
	ist umsonst\, Verkleidung ist erwünscht.\n\n\n\n	Es freuen sich auf euch\
	n\n\n\n	Andrea &amp\; Daniel\n\n
DTSTART:20260228T140000Z
DTEND:20260228T190000Z
END:VEVENT
END:VCALENDAR
