BEGIN:VCALENDAR
VERSION:2.0
PRODID:-//InvisionCommunity Events 4.7.24//EN
METHOD:PUBLISH
CALSCALE:GREGORIAN
REFRESH-INTERVAL:PT15M
X-PUBLISHED-TTL:PT15M
X-WR-CALNAME:Veranstaltungen
NAME:Veranstaltungen
BEGIN:VTIMEZONE
TZID:Europe/London
TZURL:http://tzurl.org/zoneinfo/Europe/London
X-LIC-LOCATION:Europe/London
BEGIN:DAYLIGHT
TZOFFSETFROM:+0000
TZOFFSETTO:+0100
TZNAME:BST
DTSTART:20250330T020000Z
RRULE:FREQ=YEARLY;BYMONTH=3;BYDAY=-1SU
END:DAYLIGHT
BEGIN:STANDARD
TZOFFSETFROM:+0100
TZOFFSETTO:+0000
TZNAME:GMT
DTSTART:20251026T020000Z
RRULE:FREQ=YEARLY;BYMONTH=10;BYDAY=-1SU
END:STANDARD
END:VTIMEZONE
BEGIN:VEVENT
SUMMARY:Schwarzer Mond
DTSTAMP:20250822T070010Z
SEQUENCE:0
UID:205-1-6be785b218d5d392c715c83b05ff37e8@www.tolkienforum.de
ORGANIZER;CN="wm":admin@tolkienforum.ch
DESCRIPTION:\n	es kommt zu einem schwarzen Mond! \n\n\n\n	Quelle: http
	s://www.20min.ch/story/am-wochenende-seltener-schwarzer-mond-ermoeglicht-b
	lick-auf-die-milchstrasse-103401479\n\n\n\n	 \n\n
DTSTART:20250823T000000Z
DTEND:20250823T040000Z
END:VEVENT
END:VCALENDAR
