BEGIN:VCALENDAR
VERSION:2.0
PRODID:-//InvisionCommunity Events 4.7.24//EN
METHOD:PUBLISH
CALSCALE:GREGORIAN
REFRESH-INTERVAL:PT15M
X-PUBLISHED-TTL:PT15M
X-WR-CALNAME:Veranstaltungen
NAME:Veranstaltungen
BEGIN:VTIMEZONE
TZID:Europe/London
TZURL:http://tzurl.org/zoneinfo/Europe/London
X-LIC-LOCATION:Europe/London
BEGIN:DAYLIGHT
TZOFFSETFROM:+0000
TZOFFSETTO:+0100
TZNAME:BST
DTSTART:20250330T020000Z
RRULE:FREQ=YEARLY;BYMONTH=3;BYDAY=-1SU
END:DAYLIGHT
BEGIN:STANDARD
TZOFFSETFROM:+0100
TZOFFSETTO:+0000
TZNAME:GMT
DTSTART:20251026T020000Z
RRULE:FREQ=YEARLY;BYMONTH=10;BYDAY=-1SU
END:STANDARD
END:VTIMEZONE
BEGIN:VEVENT
SUMMARY:Dritter Thüringer Tolkien Tag
DTSTAMP:20250814T155114Z
SEQUENCE:0
UID:204-1-6be785b218d5d392c715c83b05ff37e8@www.tolkienforum.de
ORGANIZER;CN="wm":admin@tolkienforum.ch
DESCRIPTION:\n	Jena\, 13.8.2025 – Am 27. September findet der Thüring
	er Tolkien Tag der Deutschen Tolkien Gesellschaft e.V. auf dem Gelände de
	r Strandbar „Strandschleicher“ in Jena statt. Tickets sind im Online-V
	orverkauf erhältlich.\n\n\n\n	Tickets sind unter https://tickets.tolkien-
	in-jena.de erhältlich. Es wird ebenfalls eine Tageskasse vor Ort geben. 
	Über Programm-Updates und alles weitere Wissenswerte informiert der Tolki
	en Stammtisch über Social Media\, aber auch auf der Website: www.tolkien-
	in-jena.de\n\n\n\n	 \n\n
DTSTART;VALUE=DATE:20250927
END:VEVENT
END:VCALENDAR
