BEGIN:VCALENDAR
VERSION:2.0
PRODID:-//InvisionCommunity Events 4.7.24//EN
METHOD:PUBLISH
CALSCALE:GREGORIAN
REFRESH-INTERVAL:PT15M
X-PUBLISHED-TTL:PT15M
X-WR-CALNAME:Veranstaltungen
NAME:Veranstaltungen
BEGIN:VTIMEZONE
TZID:Europe/London
TZURL:http://tzurl.org/zoneinfo/Europe/London
X-LIC-LOCATION:Europe/London
BEGIN:DAYLIGHT
TZOFFSETFROM:+0000
TZOFFSETTO:+0100
TZNAME:BST
DTSTART:20260329T020000Z
RRULE:FREQ=YEARLY;BYMONTH=3;BYDAY=-1SU
END:DAYLIGHT
BEGIN:STANDARD
TZOFFSETFROM:+0100
TZOFFSETTO:+0000
TZNAME:GMT
DTSTART:20261025T020000Z
RRULE:FREQ=YEARLY;BYMONTH=10;BYDAY=-1SU
END:STANDARD
END:VTIMEZONE
BEGIN:VEVENT
SUMMARY:Grand Theft Auto VI
DTSTAMP:20250520T104607Z
SEQUENCE:0
UID:197-1-6be785b218d5d392c715c83b05ff37e8@www.tolkienforum.de
ORGANIZER;CN="wm":admin@tolkienforum.ch
DESCRIPTION:\n	GTA6 kommt raus. Auf Konsole. Nicht vergessen die Konsole
	 zu besorgen! Und dann geht ab!\n\n\n\n	https://www.rockstargames.com/VI\n
	\n
DTSTART:20261119T110000Z
END:VEVENT
END:VCALENDAR
