BEGIN:VCALENDAR
VERSION:2.0
PRODID:-//InvisionCommunity Events 4.7.24//EN
METHOD:PUBLISH
CALSCALE:GREGORIAN
REFRESH-INTERVAL:PT15M
X-PUBLISHED-TTL:PT15M
X-WR-CALNAME:Veranstaltungen
NAME:Veranstaltungen
BEGIN:VTIMEZONE
TZID:Europe/London
TZURL:http://tzurl.org/zoneinfo/Europe/London
X-LIC-LOCATION:Europe/London
BEGIN:DAYLIGHT
TZOFFSETFROM:+0000
TZOFFSETTO:+0100
TZNAME:BST
DTSTART:20170326T020000Z
RRULE:FREQ=YEARLY;BYMONTH=3;BYDAY=-1SU
END:DAYLIGHT
BEGIN:STANDARD
TZOFFSETFROM:+0100
TZOFFSETTO:+0000
TZNAME:GMT
DTSTART:20171029T020000Z
RRULE:FREQ=YEARLY;BYMONTH=10;BYDAY=-1SU
END:STANDARD
END:VTIMEZONE
BEGIN:VEVENT
SUMMARY:Literarische Weltenschöpfungen ­– 14. Tolkien Seminar
DTSTAMP:20171019T200403Z
SEQUENCE:0
UID:139-1-6be785b218d5d392c715c83b05ff37e8@www.tolkienforum.de
ORGANIZER;CN="Elda":admin@tolkienforum.ch
DESCRIPTION:\n\n	Hallo zusammen!\n\n\n\n	Spannende Vorträge\, leckeres 
	Abendessen in netter Runde mit lauter Tolkien-Interessierten und Tolkienol
	ogen erwarten die Fans an der Universität Augsburg. Mit dabei sind intern
	ationale Größen wie John Garth\, der Tolkienbiograph (Tolkien and the Gr
	eat War\, Tolkien at Exeter College) und Gergely Nagy\, Vizepräsident der
	 ungarischen Tolkiengesellschaft.\n\n\n\n	Man darf auf spannende Vorträge
	 zu jeder Menge Tolkien\, Herr der Ringe und Co gespannt sein – aber auc
	h der Blick über den Tellerrand\, auf andere Fantasywerke wie Game of Thr
	ones\, darf natürlich nicht fehlen. \n\n\n	weitere Infos gibts auf der We
	bsite der Deutschen Tolkiengesellschaft (besonders das dreitägige Program
	m unten beachten )!\n\n\n\n	Um Voranmeldung zu der kostenfreien Veranstalt
	ung wird gebeten: fanscifi@phil.uni-augsburg.de\n\n\n\n	Viel Vergnügen un
	d viele Grüße\n\n\n\n	Eldanor\n\n
DTSTART;VALUE=DATE:20171027
DTEND;VALUE=DATE:20171030
END:VEVENT
END:VCALENDAR
